BEGIN:VCALENDAR
VERSION:2.0
PRODID:-//Haus der Nachhaltigkeit - ECPv6.15.13//NONSGML v1.0//EN
CALSCALE:GREGORIAN
METHOD:PUBLISH
X-ORIGINAL-URL:https://hdn-giessen.de
X-WR-CALDESC:Veranstaltungen für Haus der Nachhaltigkeit
REFRESH-INTERVAL;VALUE=DURATION:PT1H
X-Robots-Tag:noindex
X-PUBLISHED-TTL:PT1H
BEGIN:VTIMEZONE
TZID:Europe/Berlin
BEGIN:DAYLIGHT
TZOFFSETFROM:+0100
TZOFFSETTO:+0200
TZNAME:CEST
DTSTART:20230326T010000
END:DAYLIGHT
BEGIN:STANDARD
TZOFFSETFROM:+0200
TZOFFSETTO:+0100
TZNAME:CET
DTSTART:20231029T010000
END:STANDARD
BEGIN:DAYLIGHT
TZOFFSETFROM:+0100
TZOFFSETTO:+0200
TZNAME:CEST
DTSTART:20240331T010000
END:DAYLIGHT
BEGIN:STANDARD
TZOFFSETFROM:+0200
TZOFFSETTO:+0100
TZNAME:CET
DTSTART:20241027T010000
END:STANDARD
BEGIN:DAYLIGHT
TZOFFSETFROM:+0100
TZOFFSETTO:+0200
TZNAME:CEST
DTSTART:20250330T010000
END:DAYLIGHT
BEGIN:STANDARD
TZOFFSETFROM:+0200
TZOFFSETTO:+0100
TZNAME:CET
DTSTART:20251026T010000
END:STANDARD
END:VTIMEZONE
BEGIN:VEVENT
DTSTART;TZID=Europe/Berlin:20241128T190000
DTEND;TZID=Europe/Berlin:20241128T210000
DTSTAMP:20260420T062840
CREATED:20240617T135744Z
LAST-MODIFIED:20240626T123302Z
UID:6376-1732820400-1732827600@hdn-giessen.de
SUMMARY:Nachhaltigkeitscafé Wetzlar: Kommen Bio-Milch\, Bio-Eier und Bio-Fleisch immer aus artgerechte „Nutz“tierhaltung?
DESCRIPTION:Beim Einkauf tierischer Produkte wird der Verbraucher/die Verbraucherin oft durch die Vielzahl von (Bio)Labeln und Informationen über Haltungsformen bzw. Stempel auf Eiern verwirrt. Was sagen diese Angaben tatsächlich über eine artgemäße Nutztierhaltung aus? Eine artgemäße Nutztierhaltung ist u. a. die Voraussetzung für die gesunde Ernährung sowohl von Veganern\, Vegetariern und Fleischessern. Und warum sollte der Mensch zur Erhaltung des ökologischen Gleichgewichts doch eher ein wenig Fleisch essen anstatt gar keines? Der Vortrag informiert über die verschiedenen Formen der Nutztierhaltung und wie Verbraucher/innen beim Einkaufen die „guten“ tierischen Produkte einfach erkennen können. \nein Vortrag von Ilse Römer (PROVIEH-Ehrenamt Gießen-Wetzlar) mit anschließender Diskussion.
URL:https://hdn-giessen.de/veranstaltungen/nachhaltigkeitscafe-wetzlar-kommen-bio-milch-bio-eier-und-bio-fleisch-immer-aus-artgerechte-nutztierhaltung/
LOCATION:Stadtbibliothek Wetzlar\, Bahnhofstraße 6\, Wetzlar\, Hessen\, 35576\, Deutschland
CATEGORIES:Austausch,Vortrag
ATTACH;FMTTYPE=image/png:https://hdn-giessen.de/wp-content/uploads/2024/06/image002.png
END:VEVENT
END:VCALENDAR