BEGIN:VCALENDAR
VERSION:2.0
PRODID:-//Haus der Nachhaltigkeit - ECPv6.15.13//NONSGML v1.0//EN
CALSCALE:GREGORIAN
METHOD:PUBLISH
X-ORIGINAL-URL:https://hdn-giessen.de
X-WR-CALDESC:Veranstaltungen für Haus der Nachhaltigkeit
REFRESH-INTERVAL;VALUE=DURATION:PT1H
X-Robots-Tag:noindex
X-PUBLISHED-TTL:PT1H
BEGIN:VTIMEZONE
TZID:Europe/Berlin
BEGIN:DAYLIGHT
TZOFFSETFROM:+0100
TZOFFSETTO:+0200
TZNAME:CEST
DTSTART:20240331T010000
END:DAYLIGHT
BEGIN:STANDARD
TZOFFSETFROM:+0200
TZOFFSETTO:+0100
TZNAME:CET
DTSTART:20241027T010000
END:STANDARD
BEGIN:DAYLIGHT
TZOFFSETFROM:+0100
TZOFFSETTO:+0200
TZNAME:CEST
DTSTART:20250330T010000
END:DAYLIGHT
BEGIN:STANDARD
TZOFFSETFROM:+0200
TZOFFSETTO:+0100
TZNAME:CET
DTSTART:20251026T010000
END:STANDARD
BEGIN:DAYLIGHT
TZOFFSETFROM:+0100
TZOFFSETTO:+0200
TZNAME:CEST
DTSTART:20260329T010000
END:DAYLIGHT
BEGIN:STANDARD
TZOFFSETFROM:+0200
TZOFFSETTO:+0100
TZNAME:CET
DTSTART:20261025T010000
END:STANDARD
END:VTIMEZONE
BEGIN:VEVENT
DTSTART;TZID=Europe/Berlin:20250507T193000
DTEND;TZID=Europe/Berlin:20250507T210000
DTSTAMP:20260419T235232
CREATED:20250331T090043Z
LAST-MODIFIED:20250331T090043Z
UID:6916-1746646200-1746651600@hdn-giessen.de
SUMMARY:Themenabend Solidarität
DESCRIPTION:Solidarität\nWas unsere Gesellschaft zusammenhält\nDr. Melanie Hartmann (Frankfurt/M.) \nInitiativen und Vereine wie Freiwilligenzentrum\, Nordstadtverein u.a. \nModeration: Dr. Gabriel Brand \nMittwoch\, 7. Mai 2025 I 19.30 Uhr \nKaufhaus der Jugendwerkstatt Gießen
URL:https://hdn-giessen.de/veranstaltungen/themenabend-solidaritaet/
LOCATION:Kaufhaus der Jugendwerkstatt\, Alter Krofdorfer Weg 4\, Gießen\, Hessen\, 35398\, Deutschland
CATEGORIES:Austausch,Gemeinschaft
END:VEVENT
END:VCALENDAR