BEGIN:VCALENDAR
VERSION:2.0
PRODID:-//Haus der Nachhaltigkeit - ECPv6.15.13//NONSGML v1.0//EN
CALSCALE:GREGORIAN
METHOD:PUBLISH
X-WR-CALNAME:Haus der Nachhaltigkeit
X-ORIGINAL-URL:https://hdn-giessen.de
X-WR-CALDESC:Veranstaltungen für Haus der Nachhaltigkeit
REFRESH-INTERVAL;VALUE=DURATION:PT1H
X-Robots-Tag:noindex
X-PUBLISHED-TTL:PT1H
BEGIN:VTIMEZONE
TZID:Europe/Berlin
BEGIN:DAYLIGHT
TZOFFSETFROM:+0100
TZOFFSETTO:+0200
TZNAME:CEST
DTSTART:20250330T010000
END:DAYLIGHT
BEGIN:STANDARD
TZOFFSETFROM:+0200
TZOFFSETTO:+0100
TZNAME:CET
DTSTART:20251026T010000
END:STANDARD
BEGIN:DAYLIGHT
TZOFFSETFROM:+0100
TZOFFSETTO:+0200
TZNAME:CEST
DTSTART:20260329T010000
END:DAYLIGHT
BEGIN:STANDARD
TZOFFSETFROM:+0200
TZOFFSETTO:+0100
TZNAME:CET
DTSTART:20261025T010000
END:STANDARD
BEGIN:DAYLIGHT
TZOFFSETFROM:+0100
TZOFFSETTO:+0200
TZNAME:CEST
DTSTART:20270328T010000
END:DAYLIGHT
BEGIN:STANDARD
TZOFFSETFROM:+0200
TZOFFSETTO:+0100
TZNAME:CET
DTSTART:20271031T010000
END:STANDARD
END:VTIMEZONE
BEGIN:VEVENT
DTSTART;TZID=Europe/Berlin:20260424T183000
DTEND;TZID=Europe/Berlin:20260424T183000
DTSTAMP:20260423T163426
CREATED:20260422T084205Z
LAST-MODIFIED:20260422T084205Z
UID:7660-1777055400-1777055400@hdn-giessen.de
SUMMARY:Aktivistischer Markt der Möglichkeiten
DESCRIPTION:Du hast Lust\, dich politisch oder gesellschaftlich zu engagieren\, weißt aber noch nicht\, wie oder wo? Du möchtest andere aktive Menschen kennenlernen? Dann bist du hier genau richtig! \nAm Freitag hast du die Gelegenheit\, viele verschiedene Gruppen aus Gießen kennenzulernen\, mehr über ihre Projekte zu erfahren und ganz ungezwungen ins Gespräch zu kommen. Egal\, ob du einfach nur neugierig bist oder schon konkrete Ideen hast\, der Abend bietet dir einen offenen Raum\, um dich zu informieren\, auszutauschen und vielleicht den passenden Einstieg für deinen eigenen Aktivismus zu finden. \nFür eine angenehme Atmosphäre ist ebenfalls gesorgt: Es gibt vegane Snacks\, Getränke und einen offenen Ausklang. \nDie Veranstaltung findet im Rahmen der kritischen Einführungswochen der JLU statt und wird von Linkes Leben Gießen organisiert. Der Raum ist leider nicht barrierefrei (Treppen). \nKomm vorbei\, bring Freund*innen mit und entdecke\, wie vielfältig Engagement in Gießen sein kann!\nWir freuen uns auf dich!
URL:https://hdn-giessen.de/veranstaltungen/aktivistischer-markt-der-moeglichkeiten/
LOCATION:Prototyp (Georg-Philipp-Gail-Str. 5)\, Gießen\, Hessen\, 35390\, Germany
END:VEVENT
END:VCALENDAR