BEGIN:VCALENDAR
VERSION:2.0
PRODID:-//Haus der Nachhaltigkeit - ECPv6.15.13//NONSGML v1.0//EN
CALSCALE:GREGORIAN
METHOD:PUBLISH
X-WR-CALNAME:Haus der Nachhaltigkeit
X-ORIGINAL-URL:https://hdn-giessen.de
X-WR-CALDESC:Veranstaltungen für Haus der Nachhaltigkeit
REFRESH-INTERVAL;VALUE=DURATION:PT1H
X-Robots-Tag:noindex
X-PUBLISHED-TTL:PT1H
BEGIN:VTIMEZONE
TZID:Europe/Berlin
BEGIN:DAYLIGHT
TZOFFSETFROM:+0100
TZOFFSETTO:+0200
TZNAME:CEST
DTSTART:20230326T010000
END:DAYLIGHT
BEGIN:STANDARD
TZOFFSETFROM:+0200
TZOFFSETTO:+0100
TZNAME:CET
DTSTART:20231029T010000
END:STANDARD
BEGIN:DAYLIGHT
TZOFFSETFROM:+0100
TZOFFSETTO:+0200
TZNAME:CEST
DTSTART:20240331T010000
END:DAYLIGHT
BEGIN:STANDARD
TZOFFSETFROM:+0200
TZOFFSETTO:+0100
TZNAME:CET
DTSTART:20241027T010000
END:STANDARD
BEGIN:DAYLIGHT
TZOFFSETFROM:+0100
TZOFFSETTO:+0200
TZNAME:CEST
DTSTART:20250330T010000
END:DAYLIGHT
BEGIN:STANDARD
TZOFFSETFROM:+0200
TZOFFSETTO:+0100
TZNAME:CET
DTSTART:20251026T010000
END:STANDARD
END:VTIMEZONE
BEGIN:VEVENT
DTSTART;TZID=Europe/Berlin:20241205T190000
DTEND;TZID=Europe/Berlin:20241205T210000
DTSTAMP:20260423T211724
CREATED:20240910T100123Z
LAST-MODIFIED:20240916T144114Z
UID:6524-1733425200-1733432400@hdn-giessen.de
SUMMARY:Lesung: „Wie viel: Was wir mit Geld machen und was Geld mit uns macht“
DESCRIPTION:Jugendbildungswerk Gießen lädt ein // Krankheitsbedingt vom 18.9. auf 5.12. verschoben \nGeld ist nicht alles? Aber Geld ist ziemlich viel: Macht\, Status\, Lebensgrundlage. Und Grund für ziemlich viele Gefühle: Scham\, Neid\, Eifersucht. Aber auch Sicherheit\, Glück\, Freiheit. Was macht Geld mit uns und was machen wir mit Geld? In „Wie viel: Was wir mit Geld machen und was Geld mit uns macht“ schildert Mareice Kaiser ihre eigene Geldgeschichte und trifft Menschen\, mit denen sie über Geld spricht. Vom Pfandflaschensammler bis zum Multi-Millionär stellt sie ihnen Fragen: Wie viel Geld ist genug? Wie viel Geld macht glücklich? Wer sollte mehr Geld haben? Wer weniger? Und wie könnte Geld gerechter verteilt sein? Es geht um Armut und Reichtum\, um Kälte und Wärme\, um Kreditkarten und Mahnungen\, um Erfolg und Not\, um Chancen und Schicksal\, um Macht und Machtlosigkeit – und um das Dazwischen. Außerdem um einen Blick auf ein Land\, in dem die einen frieren müssen\, während die anderen von Fußbodenheizungen gewärmt werden. So entsteht eine Analyse\, die entlang persönlicher Geschichten eine Struktur zeigt\, die zutiefst ungerecht ist und unser aller Zusammenleben bestimmt. \nMareice Kaiser\, Jahrgang 1981\, arbeitet als Journalistin\, Autorin und Moderatorin. Sie scrollt\, schreibt und spricht zu Gerechtigkeitsthemen. Mit ihrem Essay „Das Unwohlsein der modernen Mutter“ war sie für den Deutschen Reporter*innenpreis nominiert\, ihr gleichnamiges Buch erschien und stieg direkt in die Spiegel-Bestsellerliste ein. Sie lebt in Berlin\, in Zürich und im Internet. \n 
URL:https://hdn-giessen.de/veranstaltungen/lesung-wie-viel-was-wir-mit-geld-machen-und-was-geld-mit-uns-macht/
LOCATION:JOKUS\, Ostanlage 25 a\, Gießen\, 35390\, Deutschland
CATEGORIES:Lesung
ATTACH;FMTTYPE=application/pdf:https://hdn-giessen.de/wp-content/uploads/2024/09/Plakat-Lesung-Mareice-Kaiser-Wie-viel-18.-September-2024.pdf
ORGANIZER;CN="Jugendbildungswerk":MAILTO:jbw@giessen.de
END:VEVENT
END:VCALENDAR