BEGIN:VCALENDAR
VERSION:2.0
PRODID:-//Haus der Nachhaltigkeit - ECPv6.15.13//NONSGML v1.0//EN
CALSCALE:GREGORIAN
METHOD:PUBLISH
X-WR-CALNAME:Haus der Nachhaltigkeit
X-ORIGINAL-URL:https://hdn-giessen.de
X-WR-CALDESC:Veranstaltungen für Haus der Nachhaltigkeit
REFRESH-INTERVAL;VALUE=DURATION:PT1H
X-Robots-Tag:noindex
X-PUBLISHED-TTL:PT1H
BEGIN:VTIMEZONE
TZID:Europe/Berlin
BEGIN:DAYLIGHT
TZOFFSETFROM:+0100
TZOFFSETTO:+0200
TZNAME:CEST
DTSTART:20230326T010000
END:DAYLIGHT
BEGIN:STANDARD
TZOFFSETFROM:+0200
TZOFFSETTO:+0100
TZNAME:CET
DTSTART:20231029T010000
END:STANDARD
BEGIN:DAYLIGHT
TZOFFSETFROM:+0100
TZOFFSETTO:+0200
TZNAME:CEST
DTSTART:20240331T010000
END:DAYLIGHT
BEGIN:STANDARD
TZOFFSETFROM:+0200
TZOFFSETTO:+0100
TZNAME:CET
DTSTART:20241027T010000
END:STANDARD
BEGIN:DAYLIGHT
TZOFFSETFROM:+0100
TZOFFSETTO:+0200
TZNAME:CEST
DTSTART:20250330T010000
END:DAYLIGHT
BEGIN:STANDARD
TZOFFSETFROM:+0200
TZOFFSETTO:+0100
TZNAME:CET
DTSTART:20251026T010000
END:STANDARD
END:VTIMEZONE
BEGIN:VEVENT
DTSTART;TZID=Europe/Berlin:20241018T180000
DTEND;TZID=Europe/Berlin:20241019T150000
DTSTAMP:20260420T044604
CREATED:20241015T110956Z
LAST-MODIFIED:20241015T110956Z
UID:6603-1729274400-1729350000@hdn-giessen.de
SUMMARY:Wirtschaft neu gedacht - Herbstakademie Plurale Ökonomik
DESCRIPTION:In Zeiten globaler Krisen stehen unsere Gesellschaft und Wirtschaft vor großen Herausforderungen. Der Klimawandel\, soziale Ungleichheiten und die Notwendigkeit einer nachhaltigen Wirtschaftsweise verlangen nach neuen Ideen und Ansätzen. Doch wie können wir eine Wirtschaft gestalten\, die sowohl ökologisch als auch sozial gerecht ist? Und welche Rolle spielt die Plurale Ökonomik dabei? \nUnsere Veranstaltung widmet sich nicht nur der Suche nach zukunftsweisenden Lösungen\, sondern möchte auch die Themen der Pluralen Ökonomik für eine breite Öffentlichkeit zugänglicher machen. Expert*innen aus verschiedenen Disziplinen stellen an zwei Tagen ihre Perspektiven vor\, wie eine Transformation für die Zukunft aussehen könnte\, und diskutieren mit uns\, welche neuen Wege zu einer nachhaltigen und gerechten Wirtschaft führen können. \n18. Oktober 18 bis 21 Uhr\nBy Design or by Disaster? Wege in eine zukunftsfähige Gesellschaft\nProf. Bernd Sommer\, Professor an der TU Dortmund und Autor \nWirtschaft neu gestalten und Paradigmen hinterfragen\nAntonia Bursetzky\, Studentin und Beraterin \n19. Oktober 10.30 bis 16 Uhr\nReshaping Economics\nProf. Dr. Silja Graupe\, Gründerin und Präsidentin der Hochschule für Gesellschaftsgestaltung. Professorin für Ökonomie und Philosophie \nUnternehmen in Grün\nFrank Thun\, Berater und Autor \nSuffizienz in der Wirtschaft – Das transformative Potenzial von Unternehmen für Nachhaltigkeit\nDr. Maike Gossen\, TU Berlin \nModeration:\nFrancis Rohr\, Nachhaltigkeitsberater und Silvie Rohr\, Juristin
URL:https://hdn-giessen.de/veranstaltungen/wirtschaft-neu-gedacht-herbstakademie-plurale-oekonomik/
LOCATION:online
CATEGORIES:Austausch,Konferenz,Vortrag
END:VEVENT
END:VCALENDAR