BEGIN:VCALENDAR
VERSION:2.0
PRODID:-//Haus der Nachhaltigkeit - ECPv6.15.13//NONSGML v1.0//EN
CALSCALE:GREGORIAN
METHOD:PUBLISH
X-WR-CALNAME:Haus der Nachhaltigkeit
X-ORIGINAL-URL:https://hdn-giessen.de
X-WR-CALDESC:Veranstaltungen für Haus der Nachhaltigkeit
REFRESH-INTERVAL;VALUE=DURATION:PT1H
X-Robots-Tag:noindex
X-PUBLISHED-TTL:PT1H
BEGIN:VTIMEZONE
TZID:Europe/Berlin
BEGIN:DAYLIGHT
TZOFFSETFROM:+0100
TZOFFSETTO:+0200
TZNAME:CEST
DTSTART:20230326T010000
END:DAYLIGHT
BEGIN:STANDARD
TZOFFSETFROM:+0200
TZOFFSETTO:+0100
TZNAME:CET
DTSTART:20231029T010000
END:STANDARD
BEGIN:DAYLIGHT
TZOFFSETFROM:+0100
TZOFFSETTO:+0200
TZNAME:CEST
DTSTART:20240331T010000
END:DAYLIGHT
BEGIN:STANDARD
TZOFFSETFROM:+0200
TZOFFSETTO:+0100
TZNAME:CET
DTSTART:20241027T010000
END:STANDARD
BEGIN:DAYLIGHT
TZOFFSETFROM:+0100
TZOFFSETTO:+0200
TZNAME:CEST
DTSTART:20250330T010000
END:DAYLIGHT
BEGIN:STANDARD
TZOFFSETFROM:+0200
TZOFFSETTO:+0100
TZNAME:CET
DTSTART:20251026T010000
END:STANDARD
END:VTIMEZONE
BEGIN:VEVENT
DTSTART;TZID=Europe/Berlin:20241114T180000
DTEND;TZID=Europe/Berlin:20241114T193000
DTSTAMP:20260420T025238
CREATED:20241015T105420Z
LAST-MODIFIED:20241015T105420Z
UID:6597-1731607200-1731612600@hdn-giessen.de
SUMMARY:Jetzt wird’s praktisch! Mit Reparatur\, Zero Waste und Co. zur Rohstoffwende
DESCRIPTION:Keine Lust mehr auf Menschenrechtsverletzungen und Umweltzerstörung für die Metalle in unseren Smartphones\, Autos und Häusern? Es ist höchste Zeit für einen anderen Umgang mit Rohstoffen! Aber wie fangen wir konkret damit an? \nRohstoffwende selber machen: Das können Sie tun! \nNach einer kurzen Einführung zu den globalen Folgen unseres Rohstoffverbrauchs\, stellen wir in dieser Veranstaltung Möglichkeiten vor\, wie jede*r ganz konkret Teil der Rohstoffwende werden kann. Wir geben einen Überblick über verschiedene Ansätze von Reparatur bis Zero Waste. Dabei lassen wir uns von positiven Beispielen und bereits existierenden Projekten inspirieren. Expert*innen geben kurze Inputs zu den einzelnen Bereichen\, beantworten Fragen und geben praktische Tipps zur Umsetzung. Anschließend tauschen wir uns in Kleingruppen dazu aus\, wie wir in unserem Umfeld (Hochschule\, Beruf\, Verein\, etc.) tätig werden können. \nDie digitale Veranstaltung findet in Kooperation mit dem INKOTA-Netzwerk statt. \nEine Anmeldung ist notwendig (es entstehen keine Kosten).
URL:https://hdn-giessen.de/veranstaltungen/jetzt-wirds-praktisch-mit-reparatur-zero-waste-und-co-zur-rohstoffwende/
LOCATION:online
CATEGORIES:Austausch,Vortrag
ORGANIZER;CN="Green Office":MAILTO:greenoffice@thm.de
END:VEVENT
END:VCALENDAR