BEGIN:VCALENDAR
VERSION:2.0
PRODID:-//Haus der Nachhaltigkeit - ECPv6.15.13//NONSGML v1.0//EN
CALSCALE:GREGORIAN
METHOD:PUBLISH
X-WR-CALNAME:Haus der Nachhaltigkeit
X-ORIGINAL-URL:https://hdn-giessen.de
X-WR-CALDESC:Veranstaltungen für Haus der Nachhaltigkeit
REFRESH-INTERVAL;VALUE=DURATION:PT1H
X-Robots-Tag:noindex
X-PUBLISHED-TTL:PT1H
BEGIN:VTIMEZONE
TZID:Europe/Berlin
BEGIN:DAYLIGHT
TZOFFSETFROM:+0100
TZOFFSETTO:+0200
TZNAME:CEST
DTSTART:20230326T010000
END:DAYLIGHT
BEGIN:STANDARD
TZOFFSETFROM:+0200
TZOFFSETTO:+0100
TZNAME:CET
DTSTART:20231029T010000
END:STANDARD
BEGIN:DAYLIGHT
TZOFFSETFROM:+0100
TZOFFSETTO:+0200
TZNAME:CEST
DTSTART:20240331T010000
END:DAYLIGHT
BEGIN:STANDARD
TZOFFSETFROM:+0200
TZOFFSETTO:+0100
TZNAME:CET
DTSTART:20241027T010000
END:STANDARD
BEGIN:DAYLIGHT
TZOFFSETFROM:+0100
TZOFFSETTO:+0200
TZNAME:CEST
DTSTART:20250330T010000
END:DAYLIGHT
BEGIN:STANDARD
TZOFFSETFROM:+0200
TZOFFSETTO:+0100
TZNAME:CET
DTSTART:20251026T010000
END:STANDARD
END:VTIMEZONE
BEGIN:VEVENT
DTSTART;TZID=Europe/Berlin:20241023T153000
DTEND;TZID=Europe/Berlin:20241023T183000
DTSTAMP:20260419T202604
CREATED:20241015T093032Z
LAST-MODIFIED:20241015T093032Z
UID:6590-1729697400-1729708200@hdn-giessen.de
SUMMARY:Swap'n'GO - Kleidertauchparty für THM-Hochschulmitglieder\, Schüler*innen & Friedberger*innen
DESCRIPTION:Kleidertauschen spart nicht nur Geld\, sondern auch die Ressourcen unserer Erde. Jedes fünfte Kleidungsstück wird\, laut einer Umfrage von Greenpeace (2015)\, selten oder nie getragen und am Ende aussortiert. \nDas Green Office der THM und die Stadt Friedberg / Stadtwerke Friedberg gehen gemeinsam dagegen an und laden zur Kleidertauschparty am 23.10.2024 ab 15:30 Uhr im Aktionsraum\, Kaiserstr. 13 in Friedberg ein. \nEin Startkapital an Kleidung für jede*n ist vorhanden. Gerne gesehen sind besonders Herbst- und Winterkleidung für die kommenden kühlen Tage. \nAussortierte\, gewaschene und gut erhaltene Kleidung kann mitgebracht werden und gegen neue Lieblingsteile eingetauscht werden. Dazu zählen Kleidungsstücke jeglicher Art\, Schuhpaare und Accessoires. Das Limit liegt bei zehn Teilen. \nBitte beachten: Die Kleidung muss nicht von einer bekannten Marke oder nachhaltig produziert sein –  Die Hauptsache ist\, dass sie noch so gut erhalten ist\, dass Sie sie Ihren besten Freund*innen geben würden. \nDie Kleidung\, die nicht getauscht wird\, wird an soziale Einrichtungen weitergegeben. \nFür Musik und lokale Snacks ist gesorgt. \nEine Anmeldung ist nicht notwendig.
URL:https://hdn-giessen.de/veranstaltungen/swapngo-kleidertauchparty-fuer-thm-hochschulmitglieder-schuelerinnen-friedbergerinnen/
LOCATION:Aktionsraum Friedberg\, Kaiserstraße 13\, Friedberg\, Hessen\, 61169\, Deutschland
CATEGORIES:Gemeinschaft,Kleidertauschparty,Party
ORGANIZER;CN="Green Office":MAILTO:greenoffice@thm.de
END:VEVENT
END:VCALENDAR