BEGIN:VCALENDAR
VERSION:2.0
PRODID:-//Haus der Nachhaltigkeit - ECPv6.15.13//NONSGML v1.0//EN
CALSCALE:GREGORIAN
METHOD:PUBLISH
X-ORIGINAL-URL:https://hdn-giessen.de
X-WR-CALDESC:Veranstaltungen für Haus der Nachhaltigkeit
REFRESH-INTERVAL;VALUE=DURATION:PT1H
X-Robots-Tag:noindex
X-PUBLISHED-TTL:PT1H
BEGIN:VTIMEZONE
TZID:Europe/Berlin
BEGIN:DAYLIGHT
TZOFFSETFROM:+0100
TZOFFSETTO:+0200
TZNAME:CEST
DTSTART:20230326T010000
END:DAYLIGHT
BEGIN:STANDARD
TZOFFSETFROM:+0200
TZOFFSETTO:+0100
TZNAME:CET
DTSTART:20231029T010000
END:STANDARD
BEGIN:DAYLIGHT
TZOFFSETFROM:+0100
TZOFFSETTO:+0200
TZNAME:CEST
DTSTART:20240331T010000
END:DAYLIGHT
BEGIN:STANDARD
TZOFFSETFROM:+0200
TZOFFSETTO:+0100
TZNAME:CET
DTSTART:20241027T010000
END:STANDARD
BEGIN:DAYLIGHT
TZOFFSETFROM:+0100
TZOFFSETTO:+0200
TZNAME:CEST
DTSTART:20250330T010000
END:DAYLIGHT
BEGIN:STANDARD
TZOFFSETFROM:+0200
TZOFFSETTO:+0100
TZNAME:CET
DTSTART:20251026T010000
END:STANDARD
END:VTIMEZONE
BEGIN:VEVENT
DTSTART;TZID=Europe/Berlin:20241116T103000
DTEND;TZID=Europe/Berlin:20241116T133000
DTSTAMP:20260420T061537
CREATED:20241111T101813Z
LAST-MODIFIED:20241111T101813Z
UID:6681-1731753000-1731763800@hdn-giessen.de
SUMMARY:Waldaktionsmonat: Waldführung Wißmar (Gießen)
DESCRIPTION:Waldaktionsmonat: Gemeinsam für den Wald  \nDie Wälder in Hessen und Rheinland-Pfalz gehören zu den größten Waldflächen Deutschlands\, doch sie leiden unter den Folgen von Hitze und Trockenheit. Besonders die Monokulturen\, wie die Fichtenwälder\, sind durch den Borkenkäfer stark gefährdet. \nIm November lädt Greenpeace Gießen dich ein\, aktiv zu werden und zusammen mit @landesbetrieb.hessenforst die Zukunft unserer Wälder mitzugestalten \nSave the dates:\n 02.11.2024: Pilzwanderung mit Britta Meyer\, PilzCoach der DGfM\n 09.11.2024: Infoabend zur Baumpflanzung mit HessenForst & Greenpeace Gießen\n 16.11.2024: Waldführung im Gemeindewald Wettenberg (Wißmar) mit HessenForst\n 23.11.2024: Baumpflanzaktion im Launsbacher Wald – pack Spaten & Handschuhe ein und pflanze mit uns! \nAnmeldung und Infos: info@giessen.greenpeace.de\nSei dabei und mach einen Unterschied – die Plätze sind begrenzt!
URL:https://hdn-giessen.de/veranstaltungen/waldaktionsmonat-waldfuehrung-wissmar-giessen/
LOCATION:Wald Wißmar
CATEGORIES:Spaziergang
END:VEVENT
END:VCALENDAR