BEGIN:VCALENDAR
VERSION:2.0
PRODID:-//Haus der Nachhaltigkeit - ECPv6.15.13//NONSGML v1.0//EN
CALSCALE:GREGORIAN
METHOD:PUBLISH
X-ORIGINAL-URL:https://hdn-giessen.de
X-WR-CALDESC:Veranstaltungen für Haus der Nachhaltigkeit
REFRESH-INTERVAL;VALUE=DURATION:PT1H
X-Robots-Tag:noindex
X-PUBLISHED-TTL:PT1H
BEGIN:VTIMEZONE
TZID:Europe/Berlin
BEGIN:DAYLIGHT
TZOFFSETFROM:+0100
TZOFFSETTO:+0200
TZNAME:CEST
DTSTART:20220327T010000
END:DAYLIGHT
BEGIN:STANDARD
TZOFFSETFROM:+0200
TZOFFSETTO:+0100
TZNAME:CET
DTSTART:20221030T010000
END:STANDARD
BEGIN:DAYLIGHT
TZOFFSETFROM:+0100
TZOFFSETTO:+0200
TZNAME:CEST
DTSTART:20230326T010000
END:DAYLIGHT
BEGIN:STANDARD
TZOFFSETFROM:+0200
TZOFFSETTO:+0100
TZNAME:CET
DTSTART:20231029T010000
END:STANDARD
BEGIN:DAYLIGHT
TZOFFSETFROM:+0100
TZOFFSETTO:+0200
TZNAME:CEST
DTSTART:20240331T010000
END:DAYLIGHT
BEGIN:STANDARD
TZOFFSETFROM:+0200
TZOFFSETTO:+0100
TZNAME:CET
DTSTART:20241027T010000
END:STANDARD
END:VTIMEZONE
BEGIN:VEVENT
DTSTART;TZID=Europe/Berlin:20230621T160000
DTEND;TZID=Europe/Berlin:20230621T173000
DTSTAMP:20260423T223257
CREATED:20230130T112626Z
LAST-MODIFIED:20230130T112626Z
UID:2294-1687363200-1687368600@hdn-giessen.de
SUMMARY:Textilworkshop
DESCRIPTION:Ablauf: \nDu möchtest unseren Textil-Bereich näher kennenlernen? Bei diesem Workshop hast du die Möglichkeit dazu! Wir gestalten mit dir einen Einkaufsbeutel mit praktischen Extras und Aufdruck. Dafür lernst du unsere Nähmaschinen\, unseren Schneidplotter und die Heizpresse kennen. Alles ist für dich vorbereitet\, du musst nur vorbeikommen. Du lernst die Software und die Maschinen kennen. Für die Anmeldung kannst du dir einfach ein Ticket buchen. \nKeine Angst: Es sind absolut keine Vorkenntnisse nötig! \nAnmeldung: \nEs gibt pro Workshoptermin zwei Zeitfenster. Bitte melde dich nur für ein Zeitfenster an\, damit auch andere Menschen die Möglichkeit haben\, den Kurs zu besuchen. In beiden Zeitfenstern wird exakt der selbe Ablauf durchgeführt.\nDu erhälst eine Bestätigung per Mail. Schau auch in deinem Spam-Ordner nach. Über diese Mail kannst du dein Ticket auch wieder stornieren\, falls du nicht teilnehmen kannst. Das ist wichtig\, damit dann andere eine Chance bekommen\, an dem Kurs teilzunehmen. \nIst der Kurs ausgebucht\, wirst du automatisch auf die Warteliste für den Kurs gesetzt. Sollte jemand absagen kannst du nachrücken. Buche dir sonst einen anderen freien Termin. Wenn du ansonsten irgendwelche Probleme bei der Anmeldung oder andere Fragen hast\, schreib uns einfach eine E-Mail an tickets@makerspace-giessen.de \nWas müsst ihr mitbringen?  \nDu musst nichts zum Workshop mitbringen. \nDie Workshops sind komplett kostenfrei (inkl. Material). Wir freuen uns jedoch über eine Spende für unser gemeinnütziges Projekt.
URL:https://hdn-giessen.de/veranstaltungen/textilworkshop/
LOCATION:Makerspace Gießen\, Walltorstraße 57\, Gießen\, Hessen\, 35390\, Deutschland
CATEGORIES:Workshops
END:VEVENT
END:VCALENDAR