BEGIN:VCALENDAR
VERSION:2.0
PRODID:-//Haus der Nachhaltigkeit - ECPv6.15.13//NONSGML v1.0//EN
CALSCALE:GREGORIAN
METHOD:PUBLISH
X-WR-CALNAME:Haus der Nachhaltigkeit
X-ORIGINAL-URL:https://hdn-giessen.de
X-WR-CALDESC:Veranstaltungen für Haus der Nachhaltigkeit
REFRESH-INTERVAL;VALUE=DURATION:PT1H
X-Robots-Tag:noindex
X-PUBLISHED-TTL:PT1H
BEGIN:VTIMEZONE
TZID:Europe/Berlin
BEGIN:DAYLIGHT
TZOFFSETFROM:+0100
TZOFFSETTO:+0200
TZNAME:CEST
DTSTART:20230326T010000
END:DAYLIGHT
BEGIN:STANDARD
TZOFFSETFROM:+0200
TZOFFSETTO:+0100
TZNAME:CET
DTSTART:20231029T010000
END:STANDARD
BEGIN:DAYLIGHT
TZOFFSETFROM:+0100
TZOFFSETTO:+0200
TZNAME:CEST
DTSTART:20240331T010000
END:DAYLIGHT
BEGIN:STANDARD
TZOFFSETFROM:+0200
TZOFFSETTO:+0100
TZNAME:CET
DTSTART:20241027T010000
END:STANDARD
BEGIN:DAYLIGHT
TZOFFSETFROM:+0100
TZOFFSETTO:+0200
TZNAME:CEST
DTSTART:20250330T010000
END:DAYLIGHT
BEGIN:STANDARD
TZOFFSETFROM:+0200
TZOFFSETTO:+0100
TZNAME:CET
DTSTART:20251026T010000
END:STANDARD
END:VTIMEZONE
BEGIN:VEVENT
DTSTART;TZID=Europe/Berlin:20241204T143000
DTEND;TZID=Europe/Berlin:20241204T173000
DTSTAMP:20260423T200836
CREATED:20241015T105713Z
LAST-MODIFIED:20241015T105713Z
UID:6599-1733322600-1733333400@hdn-giessen.de
SUMMARY:CleanUpWalk X Green Office
DESCRIPTION:Die meisten Menschen genießen eine saubere Umwelt und dazu tragen wir aktiv bei: Mit Zangen\, Handschuhen und Müllbeuteln ziehen wir am 04.12.2024 am Campus Gießen der THM los und sammeln Müll auf. \nFür Musik und gute Stimmung ist gesorgt. Zangen werden gestellt\, sodass Sie nur warme Kleidung dabeihaben sollten. Ganz im Sinne des Green Offices tragen wir somit zu einer sauberen Umgebung und zum Schutz der Natur bei. \nEine Anmeldung ist nicht notwendig.
URL:https://hdn-giessen.de/veranstaltungen/cleanupwalk-x-green-office/
LOCATION:Campus Gießen C13
CATEGORIES:Gemeinschaft,Spaziergang
ORGANIZER;CN="Green Office":MAILTO:greenoffice@thm.de
END:VEVENT
BEGIN:VEVENT
DTSTART;TZID=Europe/Berlin:20241205T160000
DTEND;TZID=Europe/Berlin:20241205T173000
DTSTAMP:20260423T200836
CREATED:20241015T105938Z
LAST-MODIFIED:20241015T105938Z
UID:6601-1733414400-1733419800@hdn-giessen.de
SUMMARY:Nachhaltige Pflanzenvielfalt in der Fassadenbegrünung
DESCRIPTION:Die Sanierungsarbeiten am Gebäude C10 laufen voraussichtlich bis in den Herbst 2025. Neben der energetischen Sanierung und einer großflächigen Photovoltaikanlage\, wird auch eine Dach- und Fassadenbegrünung angelegt. \nDas nehmen wir zum Anlass\, um das Thema Fassadenbegrünung genauer zu betrachten. \nIm Online-Vortrag von Prof. Dr. Alexander von Birgelen (Institut für urbanen Gartenbau und Pflanzenverwendung\, Hochschule Geisenheim University) sollen Chancen und Herausforderungen einer solchen Begrünung beleuchtet werden. Denn die Pflanzen müssen für die besonderen Bedingungen an der Wand geeignet sein\, da diese oft deutlich schwieriger sind als am Boden. So sind auch die Versorgung mit Wasser und Nährstoffen sind nicht so leicht wie im Beet. Welche Pflanzen eignen sich für diese Systeme und haben sie\, neben der Dauerbegrünung auch noch einen ökologischen Mehrwert? \nProf. Dr. von Birgelen erläutert neben dem wandgebundenen System mit Stauden auch die Begrünung mit Kletterpflanzen für Großprojekte und „zuhause“. Hier gibt es wieder andere Herausforderungen für die Begrünung. Welche Arten sind hier in puncto Biodiversität und Pflegeaufwand empfehlenswert? \nAbschließend sollen auch mögliche Potenziale für das Mikroklima beleuchtet und die Fragen\, ob und wann eine Fassadenbegrünung wirklich sinnvoll ist\, beantwortet werden. \nDer Vortrag eignet sich damit sowohl für Menschen\, die allgemein am Thema interessiert sind als auch für Hausbesitzer*innen\, die ihre eigenen „vertikalen Garten“ erschaffen wollen. \nDie Veranstaltung findet am Donnerstag\, den 05. Dezember um 16.00 Uhr online in Kooperation mit dem Green Office der Hochschule Geisenheim statt. Die Teilnahme ist kostenlos und ohne Anmeldung möglich. \nHinweis: Es wird keinen Fokus auf das Vorhaben am Gebäude C10 gelegt
URL:https://hdn-giessen.de/veranstaltungen/nachhaltige-pflanzenvielfalt-in-der-fassadenbegruenung/
LOCATION:online
CATEGORIES:Austausch,Vortrag
ORGANIZER;CN="Green Office":MAILTO:greenoffice@thm.de
END:VEVENT
END:VCALENDAR