BEGIN:VCALENDAR
VERSION:2.0
PRODID:-//Haus der Nachhaltigkeit - ECPv6.15.13//NONSGML v1.0//EN
CALSCALE:GREGORIAN
METHOD:PUBLISH
X-WR-CALNAME:Haus der Nachhaltigkeit
X-ORIGINAL-URL:https://hdn-giessen.de
X-WR-CALDESC:Veranstaltungen für Haus der Nachhaltigkeit
REFRESH-INTERVAL;VALUE=DURATION:PT1H
X-Robots-Tag:noindex
X-PUBLISHED-TTL:PT1H
BEGIN:VTIMEZONE
TZID:Europe/Berlin
BEGIN:DAYLIGHT
TZOFFSETFROM:+0100
TZOFFSETTO:+0200
TZNAME:CEST
DTSTART:20230326T010000
END:DAYLIGHT
BEGIN:STANDARD
TZOFFSETFROM:+0200
TZOFFSETTO:+0100
TZNAME:CET
DTSTART:20231029T010000
END:STANDARD
BEGIN:DAYLIGHT
TZOFFSETFROM:+0100
TZOFFSETTO:+0200
TZNAME:CEST
DTSTART:20240331T010000
END:DAYLIGHT
BEGIN:STANDARD
TZOFFSETFROM:+0200
TZOFFSETTO:+0100
TZNAME:CET
DTSTART:20241027T010000
END:STANDARD
BEGIN:DAYLIGHT
TZOFFSETFROM:+0100
TZOFFSETTO:+0200
TZNAME:CEST
DTSTART:20250330T010000
END:DAYLIGHT
BEGIN:STANDARD
TZOFFSETFROM:+0200
TZOFFSETTO:+0100
TZNAME:CET
DTSTART:20251026T010000
END:STANDARD
END:VTIMEZONE
BEGIN:VEVENT
DTSTART;TZID=Europe/Berlin:20241031T190000
DTEND;TZID=Europe/Berlin:20241031T210000
DTSTAMP:20260420T070550
CREATED:20241015T111712Z
LAST-MODIFIED:20241015T111712Z
UID:6606-1730401200-1730408400@hdn-giessen.de
SUMMARY:Nachhaltigkeitscafé Wetzlar: Ernährungssicherheit in Zeiten der Klimakrise
DESCRIPTION:Am 31. Oktober um 19:00 Uhr ist die NETZ -Referentin Eirin Sætherbø (https://bangladesch.org/ueber-uns/) beim Nachhaltigkeitcafé in der Stadtbibliothek Wetzlar zu Gast. \nSie berichtet zum Thema Ernährungssicherheit in Zeiten der Klimakrise und was Klimafolgen für die Menschen in ländlichen Regionen Bangladeschs und ihren Kampf gegen den Hunger bedeutet. Alle sind herzlich eingeladen! \nIn vielen ländlichen Regionen Südasiens sind Hitze\, Trockenheit und Dürreperioden ein großes Problem für Kleinbauern. Die Herausforderungen nehmen seit Jahren zu und sind eine Folge der sich verschärfenden Klimakrise. Für die Betroffenen ist das eine doppelte Herausforderung: Viele Frauen und Familien in den NETZ-Projektregionen leben in extremer Armut und müssen mit den Klimabedingungen umgehen. Das tun sie im Rahmen des Projekts gemeinsam – mit Erfolg: Sie nutzen innovative Landwirtschaftstechniken\, setzen sich für einen besseren Zugang zu Ressourcen wie Wasserquellen ein und entwickeln ihre kleinen Landwirtschaften mit Vorbildcharakter für andere. \nIm Anschluss freuen wir uns auf interessante Diskussionen und den Austausch mit euch. \nWie sieht unser Treffen aus? \nWir sitzen gemütlich im Café-Bereich der Stadtbibliothek und verbringen einen schönen gemeinsamen Abend.\nDabei geht es unter anderem um die Vernetzung\, denn wir lernen uns kennen und tauschen uns über Projekte\, Vereine und Initiativen rund um das Thema Nachhaltigkeit in unserer Region aus.\nFür eine kleine Erfrischung und den Hunger zwischen durch ist gesorgt. \nKeine Anmeldung nötig. \nWo?: Stadtbibliothek Wetzlar – Bahnhofstraße 6 – 35576 Wetzlar
URL:https://hdn-giessen.de/veranstaltungen/nachhaltigkeitscafe-wetzlar-ernaehrungssicherheit-in-zeiten-der-klimakrise/
LOCATION:Stadtbibliothek Wetzlar\, Bahnhofstraße 6\, Wetzlar\, Hessen\, 35576\, Deutschland
CATEGORIES:Austausch,Vortrag
ATTACH;FMTTYPE=application/pdf:https://hdn-giessen.de/wp-content/uploads/2024/10/Nachhaltigkeitscafe311024.pdf
END:VEVENT
END:VCALENDAR