BEGIN:VCALENDAR
VERSION:2.0
PRODID:-//Haus der Nachhaltigkeit - ECPv6.15.13//NONSGML v1.0//EN
CALSCALE:GREGORIAN
METHOD:PUBLISH
X-WR-CALNAME:Haus der Nachhaltigkeit
X-ORIGINAL-URL:https://hdn-giessen.de
X-WR-CALDESC:Veranstaltungen für Haus der Nachhaltigkeit
REFRESH-INTERVAL;VALUE=DURATION:PT1H
X-Robots-Tag:noindex
X-PUBLISHED-TTL:PT1H
BEGIN:VTIMEZONE
TZID:Europe/Berlin
BEGIN:DAYLIGHT
TZOFFSETFROM:+0100
TZOFFSETTO:+0200
TZNAME:CEST
DTSTART:20240331T010000
END:DAYLIGHT
BEGIN:STANDARD
TZOFFSETFROM:+0200
TZOFFSETTO:+0100
TZNAME:CET
DTSTART:20241027T010000
END:STANDARD
BEGIN:DAYLIGHT
TZOFFSETFROM:+0100
TZOFFSETTO:+0200
TZNAME:CEST
DTSTART:20250330T010000
END:DAYLIGHT
BEGIN:STANDARD
TZOFFSETFROM:+0200
TZOFFSETTO:+0100
TZNAME:CET
DTSTART:20251026T010000
END:STANDARD
BEGIN:DAYLIGHT
TZOFFSETFROM:+0100
TZOFFSETTO:+0200
TZNAME:CEST
DTSTART:20260329T010000
END:DAYLIGHT
BEGIN:STANDARD
TZOFFSETFROM:+0200
TZOFFSETTO:+0100
TZNAME:CET
DTSTART:20261025T010000
END:STANDARD
END:VTIMEZONE
BEGIN:VEVENT
DTSTART;TZID=Europe/Berlin:20250222T100000
DTEND;TZID=Europe/Berlin:20250222T140000
DTSTAMP:20260420T002226
CREATED:20250218T123506Z
LAST-MODIFIED:20250218T123556Z
UID:6724-1740218400-1740232800@hdn-giessen.de
SUMMARY:Garten und Pflanzentag in der Stadtbibliothek
DESCRIPTION:Ein Fest für Pflanzenliebhaber und Entdecker\nNachhaltigkeit säen\, Vielfalt ernten: Die Saatgutbibliothek öffnet wieder ihre Türen und lädt alle großen und kleinen Gartenfreunde zu einem besonderen Aktionstag ein! \nSaatgut tauschen & entdecken\nEin brandneues Tauschregal lädt dazu ein\, Saatgut mit anderen zu teilen und neue Sorten für den eigenen Garten zu entdecken. Hier kann jeder mitmachen – ob erfahrener Gärtner oder neugieriger Anfänger. \nMitmach-Aktionen für Groß & Klein\nDIY-Bastelaktionen für den Garten – kreativ gestalten und nützliche Ideen für den eigenen Garten umsetzen.Quiz & Challenges – spannende Spiele mit kleinen Preisen für clevere Naturfreunde.Bilderbuchkino um 11:00 Uhr – ein Erlebnis für die jüngsten Besucher mit liebevoll erzählten Geschichten.Saaten-Ratespiel des Hessenparks – begleitet von einer Museumspädagogin aus den städtischen Museen. Wer erkennt die verschiedenen Samenarten? \nWissen & Beratung rund um Pflanzenvielfalt\nExperten des Vereins zur Erhaltung der Nutzpflanzenvielfalt (VEN) stehen bereit\, um über die Bedeutung der Pflanzenvielfalt und nachhaltigen Anbau zu informieren. \nGemeinsam Gärtnern & Erleben\n„Junges Gemüse“ – Gärtnerei & Lernbauernhof gibt Einblicke in Ihre Gärtnerei und Veranstaltungsprogramm. Viele Hände e.V. lädt zur Pflanzaktion ein – hier darf mitgegärtnert und gemeinsam angepackt werden! \nKommt vorbei\, tauscht Saatgut\, sammelt neue Ideen für den Garten & Balkon!
URL:https://hdn-giessen.de/veranstaltungen/garten-und-pflanzentag-in-der-stadtbibliothek/
LOCATION:Stadtbibliothek Wetzlar\, Bahnhofstraße 6\, Wetzlar\, Hessen\, 35576\, Deutschland
CATEGORIES:Austausch,Gemeinschaft,Netzwerken,Partizipation
ATTACH;FMTTYPE=image/jpeg:https://hdn-giessen.de/wp-content/uploads/2025/02/Saatgut-2025-Poster-A3.jpg
END:VEVENT
BEGIN:VEVENT
DTSTART;TZID=Europe/Berlin:20250227T190000
DTEND;TZID=Europe/Berlin:20250227T210000
DTSTAMP:20260420T002226
CREATED:20250218T123832Z
LAST-MODIFIED:20250218T123832Z
UID:6727-1740682800-1740690000@hdn-giessen.de
SUMMARY:Nachhaltigkeitscafé – Bildung zum Anfassen - Nachhaltigkeit erlebbar machen
DESCRIPTION:Welche Materialien und Methoden gibt es\, um Nachhaltigkeit praxisnah zu vermitteln? \nWie kann Bildung für nachhaltige Entwicklung (BNE) in Schulen und Bildungseinrichtungen integriert werden? \nDiese Veranstaltung „Bildung zum Anfassen“ bietet eine interaktive Einführung in das Konzept der BNE und zeigt\, wie die Bildungsboxen des Schuljahrs der Nachhaltigkeit eingesetzt werden können. \nDiese praxisorientierten Boxen enthalten vielfältige Materialien\, die Nachhaltigkeitsthemen greifbar machen – von Klimaschutz über Ressourcenverbrauch bis hin zu globaler Gerechtigkeit. \nWas erwartet Sie?\n Einführung in Bildung für nachhaltige Entwicklung (BNE)\n Vorstellung der Bildungsboxen mit praktischen Beispielen\n Austausch zu Best-Practice-Beispielen aus Schulen\n Tipps zur Umsetzung von BNE im Unterricht und in Projekten \nmit Felix Merklinger-Lötzsch (Bildungsmanagement Lahn-Dill-Kreis)\nund mit Gwendolyn Bömeke\, Referentin für Globales Lernen  bei NETZ Bangladesch. \n  Sie stellt das Bildungsangebot für Schulen und andere Akteure vor und berichtet aus der Praxis. Dabei wird sie einzelne/beispielhafte Methoden vorstellen\, mit denen globale Zusammenhänge spielerisch vermittelt werden können. \nWas ist BNE?\nBildung für nachhaltige Entwicklung (BNE) ermöglicht es Lernenden\, die Auswirkungen ihres Handelns auf die Welt zu verstehen und nachhaltige Entscheidungen zu treffen. Sie vermittelt Wissen\, Kompetenzen und Werte\, die für eine zukunftsfähige Gesellschaft notwendig sind. \nEintritt frei- wir freuen uns über den Austausch mit euch und wenn Ihr diese Infos an Interessierte weiterleitet – bringt auch gerne eure Bildungsmaterialien oder Ideen mit.
URL:https://hdn-giessen.de/veranstaltungen/nachhaltigkeitscafe-bildung-zum-anfassen-nachhaltigkeit-erlebbar-machen/
LOCATION:Stadtbibliothek Wetzlar\, Bahnhofstraße 6\, Wetzlar\, Hessen\, 35576\, Deutschland
CATEGORIES:Austausch,Vortrag
END:VEVENT
END:VCALENDAR